BEGIN:VCALENDAR
VERSION:2.0
PRODID:-//Urban Leaders Club - ECPv6.2.4//NONSGML v1.0//EN
CALSCALE:GREGORIAN
METHOD:PUBLISH
X-WR-CALNAME:Urban Leaders Club
X-ORIGINAL-URL:https://www.urbanleaders.cz
X-WR-CALDESC:Akce na Urban Leaders Club
REFRESH-INTERVAL;VALUE=DURATION:PT1H
X-Robots-Tag:noindex
X-PUBLISHED-TTL:PT1H
BEGIN:VTIMEZONE
TZID:UTC
BEGIN:STANDARD
TZOFFSETFROM:+0000
TZOFFSETTO:+0000
TZNAME:UTC
DTSTART:20240101T000000
END:STANDARD
END:VTIMEZONE
BEGIN:VEVENT
DTSTART;TZID=UTC:20240131T080000
DTEND;TZID=UTC:20240131T170000
DTSTAMP:20260419T184503
CREATED:20231023T170720Z
LAST-MODIFIED:20240128T181946Z
UID:20708-1706688000-1706720400@www.urbanleaders.cz
SUMMARY:Testovací akce
DESCRIPTION:
URL:https://www.urbanleaders.cz/akce/testovaci-akce/
LOCATION:Hotel Passage
CATEGORIES:Open discussion,Open Lecture,Workshop
ATTACH;FMTTYPE=image/jpeg:https://www.urbanleaders.cz/wp-content/uploads/2023/10/view-of-charles-bridge-karluv-most-and-prague-cast-2022-02-02-05-06-41-utc-scaled.jpg
END:VEVENT
END:VCALENDAR